BEGIN:VCALENDAR
VERSION:2.0
PRODID:-//Comfort Ready Home - ECPv6.15.20//NONSGML v1.0//EN
CALSCALE:GREGORIAN
METHOD:PUBLISH
X-ORIGINAL-URL:https://comfortreadyhome.com
X-WR-CALDESC:Events for Comfort Ready Home
REFRESH-INTERVAL;VALUE=DURATION:PT1H
X-Robots-Tag:noindex
X-PUBLISHED-TTL:PT1H
BEGIN:VTIMEZONE
TZID:America/Los_Angeles
BEGIN:DAYLIGHT
TZOFFSETFROM:-0800
TZOFFSETTO:-0700
TZNAME:PDT
DTSTART:20250309T100000
END:DAYLIGHT
BEGIN:STANDARD
TZOFFSETFROM:-0700
TZOFFSETTO:-0800
TZNAME:PST
DTSTART:20251102T090000
END:STANDARD
BEGIN:DAYLIGHT
TZOFFSETFROM:-0800
TZOFFSETTO:-0700
TZNAME:PDT
DTSTART:20260308T100000
END:DAYLIGHT
BEGIN:STANDARD
TZOFFSETFROM:-0700
TZOFFSETTO:-0800
TZNAME:PST
DTSTART:20261101T090000
END:STANDARD
BEGIN:DAYLIGHT
TZOFFSETFROM:-0800
TZOFFSETTO:-0700
TZNAME:PDT
DTSTART:20270314T100000
END:DAYLIGHT
BEGIN:STANDARD
TZOFFSETFROM:-0700
TZOFFSETTO:-0800
TZNAME:PST
DTSTART:20271107T090000
END:STANDARD
END:VTIMEZONE
BEGIN:VEVENT
DTSTART;TZID=America/Los_Angeles:20260511T090000
DTEND;TZID=America/Los_Angeles:20260511T110000
DTSTAMP:20260424T080157
CREATED:20260423T183737Z
LAST-MODIFIED:20260423T183737Z
UID:10000738-1778490000-1778497200@comfortreadyhome.com
SUMMARY:Seattle City Light: Conversations to Power Your Clean Energy Future
DESCRIPTION:Seattle City Light: Conversations to Power Your Clean Energy Future\n\n\n\n\n\n\n\nBertha Knight Landes Room at City Hall\nSeattle\, WA \nMonday\, May 11  •  9 AM – 11 AM\n\n\n\nOverview\n\n\n\n\nJoin the Seattle 2030 District & SCL for an engaging Energy Week event! \n\n\n\n\nJoin us for an engaging and interactive event designed to provide you with the resources\, tools\, insights\, and connections needed to achieve your clean energy goals. City Light’s energy advisors are eager to discuss energy efficiency\, sustainability\, and tailored solutions to power your clean energy future. \nWhat to expect: \nIndustry-Specific Table Discussions: Whether you’re in retail\, healthcare\, offices\, or industrial sectors\, our experts will provide actionable insights and strategies to help you save energy and reduce costs. \nNetworking Opportunities: Connect with other leaders and industry professionals who share your commitment to sustainability and clean energy innovation. \nIndustry Specific Offerings and Practical Solutions: Discover how City Light can help you streamline energy upgrades\, improve operational efficiency\, and achieve your sustainability goals with ease. \nThis event is your opportunity to engage in meaningful conversations\, gain valuable insights\, and take the next step toward a cleaner\, more efficient energy future for your business. \nWho should attend: \n\nBusiness owners and decision-makers\nFacility managers and sustainability leaders\nContractors and trade allies\nAnyone interested in energy efficiency and clean energy solutions\n\nLet’s power your clean energy future! \n*Coffee & Donuts will be provided
URL:https://comfortreadyhome.com/event/seattle-city-light-conversations-to-power-your-clean-energy-future/
LOCATION:Seattle City Hall
END:VEVENT
END:VCALENDAR